BEGIN:VCALENDAR
VERSION:2.0
PRODID:-//Get A Grip Driving School - ECPv6.15.11//NONSGML v1.0//EN
CALSCALE:GREGORIAN
METHOD:PUBLISH
X-ORIGINAL-URL:https://getagripdrivingschool.com
X-WR-CALDESC:Events for Get A Grip Driving School
REFRESH-INTERVAL;VALUE=DURATION:PT1H
X-Robots-Tag:noindex
X-PUBLISHED-TTL:PT1H
BEGIN:VTIMEZONE
TZID:America/Toronto
BEGIN:DAYLIGHT
TZOFFSETFROM:-0500
TZOFFSETTO:-0400
TZNAME:EDT
DTSTART:20240310T070000
END:DAYLIGHT
BEGIN:STANDARD
TZOFFSETFROM:-0400
TZOFFSETTO:-0500
TZNAME:EST
DTSTART:20241103T060000
END:STANDARD
BEGIN:DAYLIGHT
TZOFFSETFROM:-0500
TZOFFSETTO:-0400
TZNAME:EDT
DTSTART:20250309T070000
END:DAYLIGHT
BEGIN:STANDARD
TZOFFSETFROM:-0400
TZOFFSETTO:-0500
TZNAME:EST
DTSTART:20251102T060000
END:STANDARD
BEGIN:DAYLIGHT
TZOFFSETFROM:-0500
TZOFFSETTO:-0400
TZNAME:EDT
DTSTART:20260308T070000
END:DAYLIGHT
BEGIN:STANDARD
TZOFFSETFROM:-0400
TZOFFSETTO:-0500
TZNAME:EST
DTSTART:20261101T060000
END:STANDARD
END:VTIMEZONE
BEGIN:VEVENT
DTSTART;TZID=America/Toronto:20250807T120000
DTEND;TZID=America/Toronto:20250810T120000
DTSTAMP:20260420T115631
CREATED:20250221T192534Z
LAST-MODIFIED:20250606T033136Z
UID:1686-1754568000-1754827200@getagripdrivingschool.com
SUMMARY:Rocks & Ruts Rally
DESCRIPTION:The Rocks & Ruts Rally is a fun-filled\, and laid back weekend of like minded individuals who enjoy camping and off-roading. Come hang out with old friends and make some new ones\, while exploring trails on some of the worlds oldest rock…the Canadian Shield. \nTrails range from beginner level to expert\, so regardless of your skill level\, there is plenty of fun to be had. You can choose from one of our daily guided runs\, lead by our hand-picked and vetted Trail Guides\, or if you want a bit more freedom\, you can choose your own self-guided adventure. \nTrails are categorized by combining the standard set by OF4WD and current local trail knowledge. All the trails used for the guided runs are pre-run and inspected by our team just prior to the event to ensure familiarity with current conditions. \nIf you are new to off-roading\, we provide an Intro Run lead by our professional instructors that are more suited to newer drivers. They will show you the essentials to get you through the trails. Our instructors are very knowledgeable\, approachable\, and willing to answer any questions that you may have. \nCosts\nDriver: $199.00+Tax\nCo-Driver & other guests: Free\nVendors: Contact us for pricing
URL:https://getagripdrivingschool.com/event/rocks-ruts-rally/
LOCATION:Minden Off-Road Park\, 6254 Haliburton County Rd 121\, Minden\, Ontario\, K0M 2K0\, Canada
CATEGORIES:Special Events
ATTACH;FMTTYPE=image/png:https://getagripdrivingschool.com/wp-content/uploads/2025/05/RR-Rally-Header-PNG.png
ORGANIZER;CN="Get a Grip Driving School":MAILTO:info@getagripdrivingschool.com
END:VEVENT
END:VCALENDAR