BEGIN:VCALENDAR
VERSION:2.0
PRODID:-//Get A Grip Driving School - ECPv6.15.11//NONSGML v1.0//EN
CALSCALE:GREGORIAN
METHOD:PUBLISH
X-WR-CALNAME:Get A Grip Driving School
X-ORIGINAL-URL:https://getagripdrivingschool.com
X-WR-CALDESC:Events for Get A Grip Driving School
REFRESH-INTERVAL;VALUE=DURATION:PT1H
X-Robots-Tag:noindex
X-PUBLISHED-TTL:PT1H
BEGIN:VTIMEZONE
TZID:America/Toronto
BEGIN:DAYLIGHT
TZOFFSETFROM:-0500
TZOFFSETTO:-0400
TZNAME:EDT
DTSTART:20230312T070000
END:DAYLIGHT
BEGIN:STANDARD
TZOFFSETFROM:-0400
TZOFFSETTO:-0500
TZNAME:EST
DTSTART:20231105T060000
END:STANDARD
BEGIN:DAYLIGHT
TZOFFSETFROM:-0500
TZOFFSETTO:-0400
TZNAME:EDT
DTSTART:20240310T070000
END:DAYLIGHT
BEGIN:STANDARD
TZOFFSETFROM:-0400
TZOFFSETTO:-0500
TZNAME:EST
DTSTART:20241103T060000
END:STANDARD
BEGIN:DAYLIGHT
TZOFFSETFROM:-0500
TZOFFSETTO:-0400
TZNAME:EDT
DTSTART:20250309T070000
END:DAYLIGHT
BEGIN:STANDARD
TZOFFSETFROM:-0400
TZOFFSETTO:-0500
TZNAME:EST
DTSTART:20251102T060000
END:STANDARD
END:VTIMEZONE
BEGIN:VEVENT
DTSTART;TZID=America/Toronto:20240804T080000
DTEND;TZID=America/Toronto:20240804T160000
DTSTAMP:20260420T160446
CREATED:20240220T231922Z
LAST-MODIFIED:20240712T001605Z
UID:667-1722758400-1722787200@getagripdrivingschool.com
SUMMARY:Recovery: Level 1 - Aug 4th
DESCRIPTION:Spots are limited and will fill up fast! \nJoin us for our Recovery Level 1 Course. \nThis will be a Level 1 Certification course suitable for avid off-roaders\, and those requiring recovery training for work. \nIn this course you will learn how to assess the situation\, plan\, and prepare for the recovery. You will learn about recovery points\, and how to use traction boards\, kinetic ropes\, various straps and shackles\, and the basics of winching. \nPrice: $495+Tax \nAfter registration\, you will receive a confirmation email. Please check your Spam/Junk folders if you don’t see it. \nClick here for more information about the course. \n**Passengers not permitted. No sharing of vehicles**
URL:https://getagripdrivingschool.com/event/recovery-level-1-aug-4th/
LOCATION:Minden Off-Road Park\, 6254 Haliburton County Rd 121\, Minden\, Ontario\, K0M 2K0\, Canada
CATEGORIES:Recovery Courses
ATTACH;FMTTYPE=image/jpeg:https://getagripdrivingschool.com/wp-content/uploads/2023/12/recovery.jpg
END:VEVENT
END:VCALENDAR