BEGIN:VCALENDAR
VERSION:2.0
PRODID:-//Get A Grip Driving School - ECPv6.15.11//NONSGML v1.0//EN
CALSCALE:GREGORIAN
METHOD:PUBLISH
X-ORIGINAL-URL:https://getagripdrivingschool.com
X-WR-CALDESC:Events for Get A Grip Driving School
REFRESH-INTERVAL;VALUE=DURATION:PT1H
X-Robots-Tag:noindex
X-PUBLISHED-TTL:PT1H
BEGIN:VTIMEZONE
TZID:America/Toronto
BEGIN:DAYLIGHT
TZOFFSETFROM:-0500
TZOFFSETTO:-0400
TZNAME:EDT
DTSTART:20240310T070000
END:DAYLIGHT
BEGIN:STANDARD
TZOFFSETFROM:-0400
TZOFFSETTO:-0500
TZNAME:EST
DTSTART:20241103T060000
END:STANDARD
BEGIN:DAYLIGHT
TZOFFSETFROM:-0500
TZOFFSETTO:-0400
TZNAME:EDT
DTSTART:20250309T070000
END:DAYLIGHT
BEGIN:STANDARD
TZOFFSETFROM:-0400
TZOFFSETTO:-0500
TZNAME:EST
DTSTART:20251102T060000
END:STANDARD
BEGIN:DAYLIGHT
TZOFFSETFROM:-0500
TZOFFSETTO:-0400
TZNAME:EDT
DTSTART:20260308T070000
END:DAYLIGHT
BEGIN:STANDARD
TZOFFSETFROM:-0400
TZOFFSETTO:-0500
TZNAME:EST
DTSTART:20261101T060000
END:STANDARD
END:VTIMEZONE
BEGIN:VEVENT
DTSTART;TZID=America/Toronto:20250607T080000
DTEND;TZID=America/Toronto:20250608T120000
DTSTAMP:20260420T104144
CREATED:20250221T193940Z
LAST-MODIFIED:20250425T141319Z
UID:1689-1749283200-1749384000@getagripdrivingschool.com
SUMMARY:Recovery Level 1 - June 7
DESCRIPTION:Spots are limited and will fill up fast! \nJoin us for our first Recovery Course for 2025. \nThis will be a HYBRID course – The theory will be online on Saturday morning\, and the in-person will be on Sunday morning (location TBD) \nThis will be a Level 1 Certification course suitable for avid off-roaders\, and those requiring recovery training for work. \nIn this course you will learn how to assess the situation\, plan\, and prepare for the recovery. You will learn about recovery points\, and how to use traction boards\, kinetic ropes\, various straps and shackles\, and the basics of winching. \nPromotion Price: $295+Tax\n(normally $495) \nSchedule:\nSat: 8am to 12pm ONLINE\nSun: 8am to 12pm (location TBD) \nAfter registration\, you will receive a confirmation email. Please check your Spam/Junk folders if you don’t see it. \nClick here for more information about the course.
URL:https://getagripdrivingschool.com/event/recovery-level-1-may-7/
LOCATION:Minden Off-Road Park\, 6254 Haliburton County Rd 121\, Minden\, Ontario\, K0M 2K0\, Canada
CATEGORIES:Recovery Courses
ATTACH;FMTTYPE=image/jpeg:https://getagripdrivingschool.com/wp-content/uploads/2024/08/VideoCapture_20240804-215236.jpg
ORGANIZER;CN="Get a Grip Driving School":MAILTO:info@getagripdrivingschool.com
END:VEVENT
END:VCALENDAR